BEGIN:VCALENDAR
VERSION:2.0
PRODID:-//CIME - Carbonne Impulsion Montagne Escalade - ECPv6.15.20//NONSGML v1.0//EN
CALSCALE:GREGORIAN
METHOD:PUBLISH
X-WR-CALNAME:CIME - Carbonne Impulsion Montagne Escalade
X-ORIGINAL-URL:https://cime-carbonne.fr
X-WR-CALDESC:Évènements pour CIME - Carbonne Impulsion Montagne Escalade
REFRESH-INTERVAL;VALUE=DURATION:PT1H
X-Robots-Tag:noindex
X-PUBLISHED-TTL:PT1H
BEGIN:VTIMEZONE
TZID:Europe/Paris
BEGIN:DAYLIGHT
TZOFFSETFROM:+0100
TZOFFSETTO:+0200
TZNAME:CEST
DTSTART:20230326T010000
END:DAYLIGHT
BEGIN:STANDARD
TZOFFSETFROM:+0200
TZOFFSETTO:+0100
TZNAME:CET
DTSTART:20231029T010000
END:STANDARD
BEGIN:DAYLIGHT
TZOFFSETFROM:+0100
TZOFFSETTO:+0200
TZNAME:CEST
DTSTART:20240331T010000
END:DAYLIGHT
BEGIN:STANDARD
TZOFFSETFROM:+0200
TZOFFSETTO:+0100
TZNAME:CET
DTSTART:20241027T010000
END:STANDARD
BEGIN:DAYLIGHT
TZOFFSETFROM:+0100
TZOFFSETTO:+0200
TZNAME:CEST
DTSTART:20250330T010000
END:DAYLIGHT
BEGIN:STANDARD
TZOFFSETFROM:+0200
TZOFFSETTO:+0100
TZNAME:CET
DTSTART:20251026T010000
END:STANDARD
END:VTIMEZONE
BEGIN:VEVENT
DTSTART;TZID=Europe/Paris:20241101T080000
DTEND;TZID=Europe/Paris:20241103T170000
DTSTAMP:20260421T122022
CREATED:20240811T155023Z
LAST-MODIFIED:20240811T160012Z
UID:7510-1730448000-1730653200@cime-carbonne.fr
SUMMARY:Stage section Jeunes & montagne
DESCRIPTION:Stage de trois jours \n\n\n\n\nActivités Montagne
URL:https://cime-carbonne.fr/evenement/stage-section-jeunes-montagne/
CATEGORIES:Grandes Voies,Section Jeunes & Montagne
ATTACH;FMTTYPE=image/jpeg:https://cime-carbonne.fr/wp-content/uploads/2023/10/20231022_130148-scaled.jpg
ORGANIZER;CN="Jean-Rick":MAILTO:montagne@cime-carbonne.fr
END:VEVENT
BEGIN:VEVENT
DTSTART;TZID=Europe/Paris:20241102T000000
DTEND;TZID=Europe/Paris:20241102T235959
DTSTAMP:20260421T122023
CREATED:20241002T154836Z
LAST-MODIFIED:20241002T154842Z
UID:7600-1730505600-1730591999@cime-carbonne.fr
SUMMARY:Coupe Occitanie d’Escalade – Etape 2 de bloc
DESCRIPTION:SOLO Escalade Toulouse\, \n\n\n\nChemin du Sang de Serp\,31200 Toulouse
URL:https://cime-carbonne.fr/evenement/coupe-occitanie-descalade-etape-2-de-bloc/
CATEGORIES:Compétitions,Coupe Occitanie d'Escalade
END:VEVENT
BEGIN:VEVENT
DTSTART;TZID=Europe/Paris:20241116T080000
DTEND;TZID=Europe/Paris:20241116T170000
DTSTAMP:20260421T122023
CREATED:20240811T154249Z
LAST-MODIFIED:20241006T151128Z
UID:7506-1731744000-1731776400@cime-carbonne.fr
SUMMARY:sortie falaise adultes autonomes
DESCRIPTION:Nous proposons une sortie falaise pour adultes et ados. autonomesInscriptions par sms auprès de Carole (0628251526)\, Mélanie (0674709271) ou Pauline (0660853259). \n\n\n\nToutes les personnes autonomes souhaitant participer en aidant à l’encadrement de la journée sont les bienvenues !!!Au plaisir de grimper ensemble ! \n\n\n\nCarole\, Pauline et Mélanie
URL:https://cime-carbonne.fr/evenement/sortie-flaise/
CATEGORIES:Sortie Falaise
END:VEVENT
BEGIN:VEVENT
DTSTART;TZID=Europe/Paris:20241123T000000
DTEND;TZID=Europe/Paris:20241123T235959
DTSTAMP:20260421T122023
CREATED:20241002T154912Z
LAST-MODIFIED:20241002T154914Z
UID:7602-1732320000-1732406399@cime-carbonne.fr
SUMMARY:Coupe Occitanie d’Escalade – Etape 3 de bloc
DESCRIPTION:Cahors Escalade \n\n\n\n24 Av. Alphonse Juin\,46000 Cahors
URL:https://cime-carbonne.fr/evenement/coupe-occitanie-descalade-etape-3-de-bloc/
CATEGORIES:Compétitions,Coupe Occitanie d'Escalade
END:VEVENT
BEGIN:VEVENT
DTSTART;TZID=Europe/Paris:20241124T000000
DTEND;TZID=Europe/Paris:20241124T235959
DTSTAMP:20260421T122023
CREATED:20241002T154948Z
LAST-MODIFIED:20241002T154949Z
UID:7604-1732406400-1732492799@cime-carbonne.fr
SUMMARY:Championnat Régional de Vitesse 2024-2025
DESCRIPTION:Espace Grimpe \n\n\n\nAvenue de Belgique82121 Montauban
URL:https://cime-carbonne.fr/evenement/championnat-regional-de-vitesse-2024-2025/
CATEGORIES:Compétitions
END:VEVENT
END:VCALENDAR