BEGIN:VCALENDAR
VERSION:2.0
PRODID:-//CIME - Carbonne Impulsion Montagne Escalade - ECPv6.15.20//NONSGML v1.0//EN
CALSCALE:GREGORIAN
METHOD:PUBLISH
X-WR-CALNAME:CIME - Carbonne Impulsion Montagne Escalade
X-ORIGINAL-URL:https://cime-carbonne.fr
X-WR-CALDESC:Évènements pour CIME - Carbonne Impulsion Montagne Escalade
REFRESH-INTERVAL;VALUE=DURATION:PT1H
X-Robots-Tag:noindex
X-PUBLISHED-TTL:PT1H
BEGIN:VTIMEZONE
TZID:Europe/Paris
BEGIN:DAYLIGHT
TZOFFSETFROM:+0100
TZOFFSETTO:+0200
TZNAME:CEST
DTSTART:20230326T010000
END:DAYLIGHT
BEGIN:STANDARD
TZOFFSETFROM:+0200
TZOFFSETTO:+0100
TZNAME:CET
DTSTART:20231029T010000
END:STANDARD
BEGIN:DAYLIGHT
TZOFFSETFROM:+0100
TZOFFSETTO:+0200
TZNAME:CEST
DTSTART:20240331T010000
END:DAYLIGHT
BEGIN:STANDARD
TZOFFSETFROM:+0200
TZOFFSETTO:+0100
TZNAME:CET
DTSTART:20241027T010000
END:STANDARD
BEGIN:DAYLIGHT
TZOFFSETFROM:+0100
TZOFFSETTO:+0200
TZNAME:CEST
DTSTART:20250330T010000
END:DAYLIGHT
BEGIN:STANDARD
TZOFFSETFROM:+0200
TZOFFSETTO:+0100
TZNAME:CET
DTSTART:20251026T010000
END:STANDARD
END:VTIMEZONE
BEGIN:VEVENT
DTSTART;TZID=Europe/Paris:20241005T000000
DTEND;TZID=Europe/Paris:20241005T235959
DTSTAMP:20260421T134344
CREATED:20240818T200557Z
LAST-MODIFIED:20240818T200600Z
UID:7539-1728086400-1728172799@cime-carbonne.fr
SUMMARY:Cartographie & orientation
DESCRIPTION:Ce stage s’adresse à toutes personnes souhaitant venir s’initier à la cartographie. C’est un stage pour développer ses connaissances et pratiquer toutes les bases de la cartographie et de l’orientation en manipulant les différents instruments. Alternance théorie avec 2 visioconférence en amont et présentielle et exercices sur le terrain sur la journée du 5.
URL:https://cime-carbonne.fr/evenement/cartographie-orientation/
ATTACH;FMTTYPE=image/jpeg:https://cime-carbonne.fr/wp-content/uploads/2023/10/lecture-carte-adobestock-kerkezz.jpg
ORGANIZER;CN="Jean-Rick":MAILTO:montagne@cime-carbonne.fr
END:VEVENT
BEGIN:VEVENT
DTSTART;TZID=Europe/Paris:20241012T080000
DTEND;TZID=Europe/Paris:20241012T170000
DTSTAMP:20260421T134344
CREATED:20240811T154155Z
LAST-MODIFIED:20241006T150928Z
UID:7504-1728720000-1728752400@cime-carbonne.fr
SUMMARY:sortie falaise adultes autonomes
DESCRIPTION:Nous proposons une sortie falaise pour adultes et ados. autonomes.Inscriptions par sms auprès de Carole (0628251526)\, Mélanie (0674709271) ou Pauline (0660853259). \n\n\n\nToutes les personnes autonomes souhaitant participer en aidant à l’encadrement de la journée sont les bienvenues !!!Au plaisir de grimper ensemble ! \n\n\n\nCarole\, Pauline et Mélanie
URL:https://cime-carbonne.fr/evenement/sortie-falaise-5/
CATEGORIES:Sortie Falaise
END:VEVENT
BEGIN:VEVENT
DTSTART;TZID=Europe/Paris:20241019T000000
DTEND;TZID=Europe/Paris:20241020T235959
DTSTAMP:20260421T134344
CREATED:20240827T074828Z
LAST-MODIFIED:20240827T075937Z
UID:7573-1729296000-1729468799@cime-carbonne.fr
SUMMARY:sortie section jeunes et montagne
DESCRIPTION:Week-end grimpe à Cap de long. \n\n\n\n\nActivités Montagne
URL:https://cime-carbonne.fr/evenement/sortie-section-jeunes-et-montagne-4/
ATTACH;FMTTYPE=image/jpeg:https://cime-carbonne.fr/wp-content/uploads/2024/03/20230917_123400-scaled.jpg
ORGANIZER;CN="Jean-Rick":MAILTO:montagne@cime-carbonne.fr
END:VEVENT
END:VCALENDAR