BEGIN:VCALENDAR
VERSION:2.0
PRODID:-//CIME - Carbonne Impulsion Montagne Escalade - ECPv6.15.20//NONSGML v1.0//EN
CALSCALE:GREGORIAN
METHOD:PUBLISH
X-ORIGINAL-URL:https://cime-carbonne.fr
X-WR-CALDESC:Évènements pour CIME - Carbonne Impulsion Montagne Escalade
REFRESH-INTERVAL;VALUE=DURATION:PT1H
X-Robots-Tag:noindex
X-PUBLISHED-TTL:PT1H
BEGIN:VTIMEZONE
TZID:Europe/Paris
BEGIN:DAYLIGHT
TZOFFSETFROM:+0100
TZOFFSETTO:+0200
TZNAME:CEST
DTSTART:20230326T010000
END:DAYLIGHT
BEGIN:STANDARD
TZOFFSETFROM:+0200
TZOFFSETTO:+0100
TZNAME:CET
DTSTART:20231029T010000
END:STANDARD
BEGIN:DAYLIGHT
TZOFFSETFROM:+0100
TZOFFSETTO:+0200
TZNAME:CEST
DTSTART:20240331T010000
END:DAYLIGHT
BEGIN:STANDARD
TZOFFSETFROM:+0200
TZOFFSETTO:+0100
TZNAME:CET
DTSTART:20241027T010000
END:STANDARD
BEGIN:DAYLIGHT
TZOFFSETFROM:+0100
TZOFFSETTO:+0200
TZNAME:CEST
DTSTART:20250330T010000
END:DAYLIGHT
BEGIN:STANDARD
TZOFFSETFROM:+0200
TZOFFSETTO:+0100
TZNAME:CET
DTSTART:20251026T010000
END:STANDARD
END:VTIMEZONE
BEGIN:VEVENT
DTSTART;TZID=Europe/Paris:20240601T080000
DTEND;TZID=Europe/Paris:20240602T170000
DTSTAMP:20260421T201731
CREATED:20240515T155742Z
LAST-MODIFIED:20240515T155826Z
UID:7475-1717228800-1717347600@cime-carbonne.fr
SUMMARY:Stage de l'Ecole D'Escalade
DESCRIPTION:Ouvert aux enfants nés avant 2014 (cours du lundi 18h45/20h15)\, le stage se déroulera cette année en Ariège. Nous logerons au complexe des Oustalous\, aux Cabannes. Pour certains\, ce stage est l’occasion de découvrir l’escalade en falaise. Pour d’autres\, il est simplement l’occasion de grimper dehors avec ses amis et de passer une soirée avec eux. \n\n\n\nPour plus d’informations et s’inscrire : cliquer ici
URL:https://cime-carbonne.fr/evenement/7475/
CATEGORIES:Evénements Club,Sortie Falaise,Sorties
ATTACH;FMTTYPE=image/jpeg:https://cime-carbonne.fr/wp-content/uploads/2022/10/IMG_20220605_112532-scaled-e1668976205497.jpg
ORGANIZER;CN="Jean-Rick":MAILTO:montagne@cime-carbonne.fr
END:VEVENT
BEGIN:VEVENT
DTSTART;TZID=Europe/Paris:20240602T080000
DTEND;TZID=Europe/Paris:20240602T170000
DTSTAMP:20260421T201731
CREATED:20231127T095527Z
LAST-MODIFIED:20240612T074752Z
UID:7364-1717315200-1717347600@cime-carbonne.fr
SUMMARY:GET - Etape de fonsorbes
DESCRIPTION:
URL:https://cime-carbonne.fr/evenement/get-de-fonsorbes/
CATEGORIES:Compétitions,GET
ATTACH;FMTTYPE=image/jpeg:https://cime-carbonne.fr/wp-content/uploads/2023/11/397051459_839043981347369_911636161539723838_n.jpg
END:VEVENT
BEGIN:VEVENT
DTSTART;TZID=Europe/Paris:20240616T080000
DTEND;TZID=Europe/Paris:20240616T170000
DTSTAMP:20260421T201731
CREATED:20231127T095600Z
LAST-MODIFIED:20240612T074742Z
UID:7366-1718524800-1718557200@cime-carbonne.fr
SUMMARY:GET - Etape de Colomiers
DESCRIPTION:
URL:https://cime-carbonne.fr/evenement/get-de-colomiers/
CATEGORIES:Compétitions,GET
ATTACH;FMTTYPE=image/jpeg:https://cime-carbonne.fr/wp-content/uploads/2023/11/397051459_839043981347369_911636161539723838_n.jpg
END:VEVENT
BEGIN:VEVENT
DTSTART;TZID=Europe/Paris:20240629T080000
DTEND;TZID=Europe/Paris:20240629T170000
DTSTAMP:20260421T201731
CREATED:20240612T075138Z
LAST-MODIFIED:20240612T075140Z
UID:7484-1719648000-1719680400@cime-carbonne.fr
SUMMARY:Sortie falaise ados / adultes
DESCRIPTION:Nous proposons une sortie falaise pour adultes et ados le samedi 29 juin 2024.Inscription obligatoire : appel\, message vocal ou sms :Mélanie : 06 74 70 92 71Carole : 06 28 25 15 26 \n\n\n\nToutes les personnes autonomes souhaitant participer en aidant à l’encadrement de la journée sont les bienvenues !!!Au plaisir de grimper ensemble ! \n\n\n\nCarole\, Pauline et Mélanie
URL:https://cime-carbonne.fr/evenement/sortie-falaise-ados-adultes/
END:VEVENT
END:VCALENDAR