BEGIN:VCALENDAR
VERSION:2.0
PRODID:-//CIME - Carbonne Impulsion Montagne Escalade - ECPv6.15.20//NONSGML v1.0//EN
CALSCALE:GREGORIAN
METHOD:PUBLISH
X-ORIGINAL-URL:https://cime-carbonne.fr
X-WR-CALDESC:Évènements pour CIME - Carbonne Impulsion Montagne Escalade
REFRESH-INTERVAL;VALUE=DURATION:PT1H
X-Robots-Tag:noindex
X-PUBLISHED-TTL:PT1H
BEGIN:VTIMEZONE
TZID:Europe/Paris
BEGIN:DAYLIGHT
TZOFFSETFROM:+0100
TZOFFSETTO:+0200
TZNAME:CEST
DTSTART:20230326T010000
END:DAYLIGHT
BEGIN:STANDARD
TZOFFSETFROM:+0200
TZOFFSETTO:+0100
TZNAME:CET
DTSTART:20231029T010000
END:STANDARD
BEGIN:DAYLIGHT
TZOFFSETFROM:+0100
TZOFFSETTO:+0200
TZNAME:CEST
DTSTART:20240331T010000
END:DAYLIGHT
BEGIN:STANDARD
TZOFFSETFROM:+0200
TZOFFSETTO:+0100
TZNAME:CET
DTSTART:20241027T010000
END:STANDARD
BEGIN:DAYLIGHT
TZOFFSETFROM:+0100
TZOFFSETTO:+0200
TZNAME:CEST
DTSTART:20250330T010000
END:DAYLIGHT
BEGIN:STANDARD
TZOFFSETFROM:+0200
TZOFFSETTO:+0100
TZNAME:CET
DTSTART:20251026T010000
END:STANDARD
END:VTIMEZONE
BEGIN:VEVENT
DTSTART;TZID=Europe/Paris:20240203T080000
DTEND;TZID=Europe/Paris:20240204T170000
DTSTAMP:20260423T173303
CREATED:20231214T100945Z
LAST-MODIFIED:20240108T150221Z
UID:7388-1706947200-1707066000@cime-carbonne.fr
SUMMARY:Initiation Cascade de Glace
DESCRIPTION:Initiation à la cascade de glaceLieu : Bielsa Nord \n\n\n\nComment s’habiller pour l’alpinisme hivernal ou la cascade de glace ? \n\n\n\nLe principe consiste à empiler les couches tel un oignon. Mieux vaut un vêtement avec une seule fonction qu’un vêtement en combinant plusieurs. Ainsi\, il vaut mieux une veste imperméable de type Goretex et une polaire qu’une veste de ski. Il est plus facile de moduler les couches\, on évite d’avoir trop chaud ou trop froid\, il y a bien d’autres avantages que je ne vais pas citer. Il en va de même pour le bas du corps\, un surpantalon imperméable et un collant sont à privilégier vis-à-vis d’un pantalon de ski. On peut donc schématiser ce système en trois couches. \n\n\n\nLa première couche sert à réguler la transpiration. Il s’agit d’un t-shirt manche longue technique\, en fibres synthétiques ou naturelles telles que la laine mérinos. À noter que la laine possède des propriétés antibactériennes naturelles et est donc anti-odeur\, un choix à privilégier pour une itinérance de plusieurs jours. Le coton est à proscrire ! Il ne tient pas chaud\, se gorge d’eau et sèche lentement ! Le principe de la première couche s’applique aux sous-vêtements ! \n\n\n\nLa seconde couche sert à garder la chaleur\, il s’agit généralement d’une polaire que l’on peut doubler ou y ajouter une petite doudoune en fibre synthétique. Le type de polaire et son épaisseur varient selon l’activité et les conditions météo. \n\n\n\nLa troisième couche protège des éléments. Il s’agit généralement d’une veste « hard-shell » de type goretex\, imperméable et coupe-vent. Par beau temps\, une veste plus fine ou une veste de type « soft-shell » (coupe-vent\, mais pas imperméable) peuvent suffire. Enfin\, lors de l’arrêt de l’activité comme lors du casse-croûte ou au relais\, une doudoune est nécessaire. \n\n\n\nVoici pour les grandes lignes\, maintenant quelques spécificités pour l’alpinisme hivernal. Concernant les gants : il faut deux paires de gants étanches. Une paire fine\, pour la dextérité lors de la grimpe en tête en cascade de glace et une seconde paire plus chaude pour les relais et lorsque les mains sont en contact avec la neige\, comme souvent en alpinisme. On prendra habituellement un second t-shirt pour se changer après avoir transpiré durant l’approche. Pour les chaussures\, l’important est la circulation sanguine ! Elle amène la chaleur\, une chaussure trop serrée ou une chaussette trop épaisse comprimera le pied et entraînera l’onglet. \n\n\n\nLes chaussures pour l’alpinisme hivernal sont rigides\, avec une très bonne isolation et possèdent un débord avant et arrière pour accepter les crampons automatiques. Les crampons pour la glace ou le mixte possèdent une ou deux lames verticales semblable à des lames de piolets. 
URL:https://cime-carbonne.fr/evenement/initiation-cascade-de-glace/
CATEGORIES:Sorties
ATTACH;FMTTYPE=image/jpeg:https://cime-carbonne.fr/wp-content/uploads/2023/10/IMG_20230212_111556-scaled.jpg
ORGANIZER;CN="Jean-Rick":MAILTO:montagne@cime-carbonne.fr
END:VEVENT
BEGIN:VEVENT
DTSTART;TZID=Europe/Paris:20240210T000000
DTEND;TZID=Europe/Paris:20240211T235959
DTSTAMP:20260423T173303
CREATED:20231020T084249Z
LAST-MODIFIED:20240108T150328Z
UID:7271-1707523200-1707695999@cime-carbonne.fr
SUMMARY:Sortie Section "jeunes et montagne"
DESCRIPTION:Cascade de Glace et Goulotte  \n\n\n\nlieu : Espagne : Cascade de l’Anayet et Pena Telara
URL:https://cime-carbonne.fr/evenement/sortie-section-jeunes-et-montagne-2/
CATEGORIES:Section Jeunes & Montagne
ATTACH;FMTTYPE=image/jpeg:https://cime-carbonne.fr/wp-content/uploads/2023/10/IMG_20230212_111556-scaled.jpg
END:VEVENT
BEGIN:VEVENT
DTSTART;TZID=Europe/Paris:20240220T000000
DTEND;TZID=Europe/Paris:20240224T235959
DTSTAMP:20260423T173303
CREATED:20231018T151008Z
LAST-MODIFIED:20231030T141939Z
UID:7239-1708387200-1708819199@cime-carbonne.fr
SUMMARY:Raid à ski
DESCRIPTION:raid à ski de 4 jours pour skieurs débutants & initiés \n\n\n\nCritères :  \n\n\n\n\nDescendre toute pente soutenue (< 35°) en toutes neiges *\n\n\n\nParticiper utilement à une recherche collective de victime d’avalanche\n\n\n\nMarcher en crampons (montée\, descente) en pente soutenue (<35°)\n\n\n\nFaire une sortie de 800m dans la journée\n\n\n\n\nLieu : Massif Néouvielle
URL:https://cime-carbonne.fr/evenement/raid-a-ski/
CATEGORIES:Sorties Ski Alpinisme
ATTACH;FMTTYPE=image/jpeg:https://cime-carbonne.fr/wp-content/uploads/2022/11/DSC4691_00001-scaled-e1668976426895.jpg
ORGANIZER;CN="Jean-Rick":MAILTO:montagne@cime-carbonne.fr
END:VEVENT
BEGIN:VEVENT
DTSTART;TZID=Europe/Paris:20240224T080000
DTEND;TZID=Europe/Paris:20240224T170000
DTSTAMP:20260423T173303
CREATED:20231127T094741Z
LAST-MODIFIED:20231127T094743Z
UID:7347-1708761600-1708794000@cime-carbonne.fr
SUMMARY:Championnat régional u12 u14 Tounefeuille
DESCRIPTION:Bloc\, Diff & Vitesse
URL:https://cime-carbonne.fr/evenement/championnat-regional-u12-u14-tounefeuille/
END:VEVENT
BEGIN:VEVENT
DTSTART;TZID=Europe/Paris:20240225T080000
DTEND;TZID=Europe/Paris:20240225T170000
DTSTAMP:20260423T173303
CREATED:20231127T094823Z
LAST-MODIFIED:20231127T094825Z
UID:7349-1708848000-1708880400@cime-carbonne.fr
SUMMARY:Coupe d'occitanie de diff tournefeuille
DESCRIPTION:
URL:https://cime-carbonne.fr/evenement/coupe-doccitanie-de-diff-tournefeuille/
END:VEVENT
END:VCALENDAR