BEGIN:VCALENDAR
VERSION:2.0
PRODID:-//CIME - Carbonne Impulsion Montagne Escalade - ECPv6.15.20//NONSGML v1.0//EN
CALSCALE:GREGORIAN
METHOD:PUBLISH
X-ORIGINAL-URL:https://cime-carbonne.fr
X-WR-CALDESC:Évènements pour CIME - Carbonne Impulsion Montagne Escalade
REFRESH-INTERVAL;VALUE=DURATION:PT1H
X-Robots-Tag:noindex
X-PUBLISHED-TTL:PT1H
BEGIN:VTIMEZONE
TZID:Europe/Paris
BEGIN:DAYLIGHT
TZOFFSETFROM:+0100
TZOFFSETTO:+0200
TZNAME:CEST
DTSTART:20220327T010000
END:DAYLIGHT
BEGIN:STANDARD
TZOFFSETFROM:+0200
TZOFFSETTO:+0100
TZNAME:CET
DTSTART:20221030T010000
END:STANDARD
BEGIN:DAYLIGHT
TZOFFSETFROM:+0100
TZOFFSETTO:+0200
TZNAME:CEST
DTSTART:20230326T010000
END:DAYLIGHT
BEGIN:STANDARD
TZOFFSETFROM:+0200
TZOFFSETTO:+0100
TZNAME:CET
DTSTART:20231029T010000
END:STANDARD
BEGIN:DAYLIGHT
TZOFFSETFROM:+0100
TZOFFSETTO:+0200
TZNAME:CEST
DTSTART:20240331T010000
END:DAYLIGHT
BEGIN:STANDARD
TZOFFSETFROM:+0200
TZOFFSETTO:+0100
TZNAME:CET
DTSTART:20241027T010000
END:STANDARD
END:VTIMEZONE
BEGIN:VEVENT
DTSTART;TZID=Europe/Paris:20231210T000000
DTEND;TZID=Europe/Paris:20231210T235959
DTSTAMP:20260425T122746
CREATED:20231019T085118Z
LAST-MODIFIED:20231020T111009Z
UID:7261-1702166400-1702252799@cime-carbonne.fr
SUMMARY:"get"carbonne
DESCRIPTION:Le G.E.T (Garonne Escalade Trophée) est une rencontre amicale d’escalade\, organisée chaque saison sportive sur plusieurs étapes\, accueillies par les clubs du département de la Haute-Garonne.
URL:https://cime-carbonne.fr/evenement/getcarbonne/
CATEGORIES:GET
END:VEVENT
BEGIN:VEVENT
DTSTART;TZID=Europe/Paris:20231216T000000
DTEND;TZID=Europe/Paris:20231216T235959
DTSTAMP:20260425T122746
CREATED:20231020T085953Z
LAST-MODIFIED:20231020T111450Z
UID:7277-1702684800-1702771199@cime-carbonne.fr
SUMMARY:module ecole de neige
DESCRIPTION:Je maitrise la marche sur la neige. \n\n\n\nJ’APPRENDS – à marcher sans crampons en fonction de l’état de la neige et de la pente – à marcher avec crampons – à descendre en maitrisant son équilibre et sa vitesse – à enrayer une glissade – à s’aider d’un piolet et de bâtons – à débotter – à réaliser un corps mort\, un champignon de neige\, un pieu ou une ancre à neige – à m’encorder à la taille – à assurer corde tendue – à assurer sur un piolet – à connaître les risques sur névé  \n\n\n\nJE VALIDE – je sais adapter ma technique de progression en neige en fonction de la pente et de la qualité de la neige – je sais sécuriser la progression d’une personne avec la corde – je sais mettre en place une main courante pour traverser un névé
URL:https://cime-carbonne.fr/evenement/module-ecole-de-neige/
CATEGORIES:Sorties
ATTACH;FMTTYPE=image/jpeg:https://cime-carbonne.fr/wp-content/uploads/2023/10/P5132355.jpg
END:VEVENT
BEGIN:VEVENT
DTSTART;TZID=Europe/Paris:20231217T080000
DTEND;TZID=Europe/Paris:20231217T170000
DTSTAMP:20260425T122746
CREATED:20231127T093811Z
LAST-MODIFIED:20231127T093842Z
UID:7342-1702800000-1702832400@cime-carbonne.fr
SUMMARY:Championnat départemental de vitesse à Labroquère
DESCRIPTION:
URL:https://cime-carbonne.fr/evenement/championnat-departemental-de-vitesse-a-labroquere/
CATEGORIES:Compétitions
END:VEVENT
BEGIN:VEVENT
DTSTART;TZID=Europe/Paris:20231223T000000
DTEND;TZID=Europe/Paris:20231223T235959
DTSTAMP:20260425T122746
CREATED:20231018T145833Z
LAST-MODIFIED:20231214T095340Z
UID:7234-1703289600-1703375999@cime-carbonne.fr
SUMMARY:Annulé ! Initiation Ski-Alpinisme (de randonné)
DESCRIPTION:ANNULE  \n\n\n\nSortie d’initiation au ski de randonnée. \n\n\n\nCritère : Virer avec aisance en virages parallèles sur toutes pistes rouges (station)Lieu : à définir
URL:https://cime-carbonne.fr/evenement/ski-alpinisme-de-randonne/
CATEGORIES:Sorties Ski Alpinisme
ATTACH;FMTTYPE=image/jpeg:https://cime-carbonne.fr/wp-content/uploads/2022/11/DSC4691_00001-scaled-e1668976426895.jpg
ORGANIZER;CN="Jean-Rick":MAILTO:montagne@cime-carbonne.fr
END:VEVENT
END:VCALENDAR