BEGIN:VCALENDAR
VERSION:2.0
PRODID:-//CIME - Carbonne Impulsion Montagne Escalade - ECPv6.15.20//NONSGML v1.0//EN
CALSCALE:GREGORIAN
METHOD:PUBLISH
X-WR-CALNAME:CIME - Carbonne Impulsion Montagne Escalade
X-ORIGINAL-URL:https://cime-carbonne.fr
X-WR-CALDESC:Évènements pour CIME - Carbonne Impulsion Montagne Escalade
REFRESH-INTERVAL;VALUE=DURATION:PT1H
X-Robots-Tag:noindex
X-PUBLISHED-TTL:PT1H
BEGIN:VTIMEZONE
TZID:Europe/Paris
BEGIN:DAYLIGHT
TZOFFSETFROM:+0100
TZOFFSETTO:+0200
TZNAME:CEST
DTSTART:20220327T010000
END:DAYLIGHT
BEGIN:STANDARD
TZOFFSETFROM:+0200
TZOFFSETTO:+0100
TZNAME:CET
DTSTART:20221030T010000
END:STANDARD
BEGIN:DAYLIGHT
TZOFFSETFROM:+0100
TZOFFSETTO:+0200
TZNAME:CEST
DTSTART:20230326T010000
END:DAYLIGHT
BEGIN:STANDARD
TZOFFSETFROM:+0200
TZOFFSETTO:+0100
TZNAME:CET
DTSTART:20231029T010000
END:STANDARD
BEGIN:DAYLIGHT
TZOFFSETFROM:+0100
TZOFFSETTO:+0200
TZNAME:CEST
DTSTART:20240331T010000
END:DAYLIGHT
BEGIN:STANDARD
TZOFFSETFROM:+0200
TZOFFSETTO:+0100
TZNAME:CET
DTSTART:20241027T010000
END:STANDARD
END:VTIMEZONE
BEGIN:VEVENT
DTSTART;TZID=Europe/Paris:20230603T000000
DTEND;TZID=Europe/Paris:20230604T235959
DTSTAMP:20260425T212905
CREATED:20221120T211637Z
LAST-MODIFIED:20221120T211637Z
UID:4753-1685750400-1685923199@cime-carbonne.fr
SUMMARY:Coupe Occitanie d'Escalade - Bloc - Etape de Cahors
DESCRIPTION:Infos à venir
URL:https://cime-carbonne.fr/evenement/coupe-occitanie-descalade-bloc-etape-de-cahors/
CATEGORIES:Compétitions,Coupe Occitanie d'Escalade
ATTACH;FMTTYPE=image/png:https://cime-carbonne.fr/wp-content/uploads/2022/11/Coupe-Occitanie-2022-2023-Bannire-site-internet-DESKTOP-20K8RB2-e1668979034733.png
END:VEVENT
BEGIN:VEVENT
DTSTART;TZID=Europe/Paris:20230604T000000
DTEND;TZID=Europe/Paris:20230604T235959
DTSTAMP:20260425T212905
CREATED:20221130T082828Z
LAST-MODIFIED:20221130T082828Z
UID:4969-1685836800-1685923199@cime-carbonne.fr
SUMMARY:GET Fonsorbes
DESCRIPTION:Infos à venir
URL:https://cime-carbonne.fr/evenement/get-fonsorbes/
CATEGORIES:Compétitions,GET
ATTACH;FMTTYPE=image/png:https://cime-carbonne.fr/wp-content/uploads/2022/11/GET_2022-2023.png
END:VEVENT
BEGIN:VEVENT
DTSTART;TZID=Europe/Paris:20230610T000000
DTEND;TZID=Europe/Paris:20230611T235959
DTSTAMP:20260425T212905
CREATED:20221120T210749Z
LAST-MODIFIED:20221120T210749Z
UID:4747-1686355200-1686527999@cime-carbonne.fr
SUMMARY:Championnat de France Difficulté Sénior
DESCRIPTION:Infos à venir
URL:https://cime-carbonne.fr/evenement/championnat-de-france-difficulte-senior/
CATEGORIES:Compétitions
ATTACH;FMTTYPE=image/png:https://cime-carbonne.fr/wp-content/uploads/2022/11/logo-ffme-1920x1920-1-e1668977124818.png
END:VEVENT
BEGIN:VEVENT
DTSTART;TZID=Europe/Paris:20230617T000000
DTEND;TZID=Europe/Paris:20230618T235959
DTSTAMP:20260425T212905
CREATED:20221120T210337Z
LAST-MODIFIED:20221120T210337Z
UID:4741-1686960000-1687132799@cime-carbonne.fr
SUMMARY:Coupe Occitanie d’Escalade – Difficulté - Etape de Grabels
DESCRIPTION:Infos à venir
URL:https://cime-carbonne.fr/evenement/coupe-occitanie-descalade-difficulte-etape-de-grabels/
CATEGORIES:Compétitions,Coupe Occitanie d'Escalade
ATTACH;FMTTYPE=image/png:https://cime-carbonne.fr/wp-content/uploads/2022/11/Coupe-Occitanie-2022-2023-Bannire-site-internet-DESKTOP-20K8RB2-e1668979034733.png
END:VEVENT
BEGIN:VEVENT
DTSTART;TZID=Europe/Paris:20230618T000000
DTEND;TZID=Europe/Paris:20230618T235959
DTSTAMP:20260425T212905
CREATED:20221120T211326Z
LAST-MODIFIED:20221120T211326Z
UID:4749-1687046400-1687132799@cime-carbonne.fr
SUMMARY:GET Colomiers
DESCRIPTION:Infos à venir
URL:https://cime-carbonne.fr/evenement/get-colomiers/
CATEGORIES:Compétitions,GET
ATTACH;FMTTYPE=image/png:https://cime-carbonne.fr/wp-content/uploads/2022/11/GET_2022-2023.png
END:VEVENT
BEGIN:VEVENT
DTSTART;TZID=Europe/Paris:20230628T200000
DTEND;TZID=Europe/Paris:20230628T210000
DTSTAMP:20260425T212905
CREATED:20230623T102803Z
LAST-MODIFIED:20230623T102805Z
UID:7148-1687982400-1687986000@cime-carbonne.fr
SUMMARY:Assemblée Générale Ordinaire
DESCRIPTION:Nous y sommes\, les vacances d’été sont proches\, et nous arrivons donc au terme de cette année de pratique. \n\n\n\nAfin de clôturer la saison en beauté\, nous vous proposons 2 RDV importants : \n\n\n\n\nl’Assemblée Générale Ordinaire\, le mercredi 28/06 à 20h au gymnase\,\n\n\n\nune petite fête de fin de saison\, le vendredi 30/06 vers 18h.\n\n\n\n\nCes deux événements auront lieu à des dates proches\, et sont tous deux importants\, nous comptons sur vous tous pour y participer. \n\n\n\nEn ce qui concerne le mercredi 28/06 : compte tenu de l’AG\, le cours de 20h30 est annulé\, chaque participant de ce créneau peut en revanche venir grimper entre 19h et 20h s’il le souhaite\, ce qui permettra de rester pour participer à l’AG ensuite. \n\n\n\nNous vous rappelons que pour valider l’AG\, nous avons un quorum à atteindre (nombre minimal de participants)\, il est donc vraiment important que chacun vienne (ou donne pouvoir à un autre membre participant le cas échéant). Au-delà de cela\, l’AG est aussi le moment privilégié pour : \n\n\n\n\nvous présenter les bilans (moral et financier)\,\n\n\n\nvous présenter les projets\,\n\n\n\nvous écouter (quel que soit le sujet)\,\n\n\n\nfaire évoluer les membres du CA (certains peuvent sortir et d’autres peuvent rentrer)\,\n\n\n\netc.\n\n\n\n\nVous trouverez ici un document contenant la convocation\, le pouvoir\, ainsi que la demande officielle pour intégrer le Conseil d’Administration du club.  \n\n\n\nEnfin\, pour information\, cette date du 28/06 marquera également la fin des cours encadrés par Thibault MICLO.
URL:https://cime-carbonne.fr/evenement/assemblee-generale-ordinaire/
END:VEVENT
BEGIN:VEVENT
DTSTART;TZID=Europe/Paris:20230630T180000
DTEND;TZID=Europe/Paris:20230630T220000
DTSTAMP:20260425T212905
CREATED:20230623T102911Z
LAST-MODIFIED:20230623T102913Z
UID:7150-1688148000-1688162400@cime-carbonne.fr
SUMMARY:Fête du Club
DESCRIPTION:Fête de cloture de la saison \n\n\n\nAuberge espagnole et musique au RDV !
URL:https://cime-carbonne.fr/evenement/fete-du-club/
END:VEVENT
END:VCALENDAR