BEGIN:VCALENDAR
VERSION:2.0
PRODID:-//CIME - Carbonne Impulsion Montagne Escalade - ECPv6.15.20//NONSGML v1.0//EN
CALSCALE:GREGORIAN
METHOD:PUBLISH
X-ORIGINAL-URL:https://cime-carbonne.fr
X-WR-CALDESC:Évènements pour CIME - Carbonne Impulsion Montagne Escalade
REFRESH-INTERVAL;VALUE=DURATION:PT1H
X-Robots-Tag:noindex
X-PUBLISHED-TTL:PT1H
BEGIN:VTIMEZONE
TZID:Europe/Paris
BEGIN:DAYLIGHT
TZOFFSETFROM:+0100
TZOFFSETTO:+0200
TZNAME:CEST
DTSTART:20230326T010000
END:DAYLIGHT
BEGIN:STANDARD
TZOFFSETFROM:+0200
TZOFFSETTO:+0100
TZNAME:CET
DTSTART:20231029T010000
END:STANDARD
BEGIN:DAYLIGHT
TZOFFSETFROM:+0100
TZOFFSETTO:+0200
TZNAME:CEST
DTSTART:20240331T010000
END:DAYLIGHT
BEGIN:STANDARD
TZOFFSETFROM:+0200
TZOFFSETTO:+0100
TZNAME:CET
DTSTART:20241027T010000
END:STANDARD
BEGIN:DAYLIGHT
TZOFFSETFROM:+0100
TZOFFSETTO:+0200
TZNAME:CEST
DTSTART:20250330T010000
END:DAYLIGHT
BEGIN:STANDARD
TZOFFSETFROM:+0200
TZOFFSETTO:+0100
TZNAME:CET
DTSTART:20251026T010000
END:STANDARD
END:VTIMEZONE
BEGIN:VEVENT
DTSTART;TZID=Europe/Paris:20241206T190000
DTEND;TZID=Europe/Paris:20241206T210000
DTSTAMP:20260421T153720
CREATED:20240811T162418Z
LAST-MODIFIED:20241206T151122Z
UID:7525-1733511600-1733518800@cime-carbonne.fr
SUMMARY:Formation théorique DVA
DESCRIPTION:Dans un souci constant de formation à la sécurité\, nous demandons à tous les adhérents qui souhaitent pratiquer  le ski de rando\, de participer à une soirée formation théorique DVA (Détection de Victimes d’Avalanche). \n\n\n\nLa formation théorique est obligatoire tous les 2 ans. \n\n\n\nLieu : Gymnase
URL:https://cime-carbonne.fr/evenement/formation-theorique-dva/
CATEGORIES:Sorties Ski Alpinisme
ATTACH;FMTTYPE=image/jpeg:https://cime-carbonne.fr/wp-content/uploads/2024/08/B87432E8-6C38-4693-8D41-77DA82B8F07D-scaled.jpeg
ORGANIZER;CN="Jean-Rick":MAILTO:montagne@cime-carbonne.fr
END:VEVENT
BEGIN:VEVENT
DTSTART;TZID=Europe/Paris:20241207T080000
DTEND;TZID=Europe/Paris:20241207T170000
DTSTAMP:20260421T153720
CREATED:20240811T160801Z
LAST-MODIFIED:20241206T151229Z
UID:7522-1733558400-1733590800@cime-carbonne.fr
SUMMARY:Sortie initiation au ski de randonnée
DESCRIPTION:Critère : Virer avec aisance en virages parallèles sur toutes pistes rouges (station)Lieu : à définirMatériel : si nécessaire prévoir de louer : skis\, peaux\, chaussures\, bâtons…. Le club peux fournir (selon dispo) un pack sécurité : DVA\,Pelle\,Sonde
URL:https://cime-carbonne.fr/evenement/sortie-initiasortie-dinitiation-au-ski-de-randonneesortie/
CATEGORIES:Sorties Ski Alpinisme
ATTACH;FMTTYPE=image/jpeg:https://cime-carbonne.fr/wp-content/uploads/2023/02/IMG_20230129_115614-1-scaled-1.jpg
ORGANIZER;CN="Jean-Rick":MAILTO:montagne@cime-carbonne.fr
END:VEVENT
BEGIN:VEVENT
DTSTART;TZID=Europe/Paris:20241228T000000
DTEND;TZID=Europe/Paris:20241228T235959
DTSTAMP:20260421T153720
CREATED:20241206T151643Z
LAST-MODIFIED:20241206T152622Z
UID:7688-1735344000-1735430399@cime-carbonne.fr
SUMMARY:Initiation ski de Randonnée
DESCRIPTION:Critère : Virer avec aisance en virages parallèles sur toutes pistes rouges (station)Lieu : à définir\, Dénivelé entre 500 et 700mMatériel : si nécessaire prévoir de louer : skis\, peaux\, chaussures\, bâtons…. Le club peux fournir (selon dispo) un pack sécurité : DVA\,Pelle\,SondeS’inscrire par sms ou téléphone au près de Jean-Rick
URL:https://cime-carbonne.fr/evenement/initiation-ski-de-randonnee/
CATEGORIES:Sorties Ski Alpinisme
ORGANIZER;CN="Jean-Rick":MAILTO:montagne@cime-carbonne.fr
END:VEVENT
END:VCALENDAR