BEGIN:VCALENDAR
VERSION:2.0
PRODID:-//CIME - Carbonne Impulsion Montagne Escalade - ECPv6.15.20//NONSGML v1.0//EN
CALSCALE:GREGORIAN
METHOD:PUBLISH
X-ORIGINAL-URL:https://cime-carbonne.fr
X-WR-CALDESC:Évènements pour CIME - Carbonne Impulsion Montagne Escalade
REFRESH-INTERVAL;VALUE=DURATION:PT1H
X-Robots-Tag:noindex
X-PUBLISHED-TTL:PT1H
BEGIN:VTIMEZONE
TZID:Europe/Paris
BEGIN:DAYLIGHT
TZOFFSETFROM:+0100
TZOFFSETTO:+0200
TZNAME:CEST
DTSTART:20230326T010000
END:DAYLIGHT
BEGIN:STANDARD
TZOFFSETFROM:+0200
TZOFFSETTO:+0100
TZNAME:CET
DTSTART:20231029T010000
END:STANDARD
BEGIN:DAYLIGHT
TZOFFSETFROM:+0100
TZOFFSETTO:+0200
TZNAME:CEST
DTSTART:20240331T010000
END:DAYLIGHT
BEGIN:STANDARD
TZOFFSETFROM:+0200
TZOFFSETTO:+0100
TZNAME:CET
DTSTART:20241027T010000
END:STANDARD
BEGIN:DAYLIGHT
TZOFFSETFROM:+0100
TZOFFSETTO:+0200
TZNAME:CEST
DTSTART:20250330T010000
END:DAYLIGHT
BEGIN:STANDARD
TZOFFSETFROM:+0200
TZOFFSETTO:+0100
TZNAME:CET
DTSTART:20251026T010000
END:STANDARD
END:VTIMEZONE
BEGIN:VEVENT
DTSTART;TZID=Europe/Paris:20240518T000000
DTEND;TZID=Europe/Paris:20240520T235959
DTSTAMP:20260423T133703
CREATED:20231020T083519Z
LAST-MODIFIED:20240320T164728Z
UID:7267-1715990400-1716249599@cime-carbonne.fr
SUMMARY:Week-end Club
DESCRIPTION:Pour s’inscrire : https://cime.s2.yapla.com/fr/event-55083\n\n\n\nPour Rappel :   Après le succès des années précédentes\, votre club préféré organise à nouveau son w.e club à la pentecôte le 18\, 19 et 20 Mai (soit 2 nuitées). Ce w.e s’adresse aux familles et aux adultes licenciés. Au programme et au choix : escalade en site école (pour les débutants et les enfants)\, escalade sur un site plus difficile pour les plus aguerris\, initiation à l’escalade en grande voie\, randonnée\, vtt\, trail. D’autres possibilités selon les encadrants. Lieu : Proche Millau
URL:https://cime-carbonne.fr/evenement/week-end-club/
CATEGORIES:Grandes Voies,Section Jeunes & Montagne,Sortie Falaise,Sorties
ATTACH;FMTTYPE=image/jpeg:https://cime-carbonne.fr/wp-content/uploads/2022/11/sortieBloc-min.jpg
ORGANIZER;CN="Laurent Pascal":MAILTO:laurenpascal@gmail.com
END:VEVENT
BEGIN:VEVENT
DTSTART;TZID=Europe/Paris:20240518T080000
DTEND;TZID=Europe/Paris:20240518T170000
DTSTAMP:20260423T133703
CREATED:20231127T095429Z
LAST-MODIFIED:20231127T095430Z
UID:7362-1716019200-1716051600@cime-carbonne.fr
SUMMARY:coupe d'occitanie de bloc cahors
DESCRIPTION:
URL:https://cime-carbonne.fr/evenement/coupe-doccitanie-de-bloc-cahors/
CATEGORIES:Compétitions,Coupe Occitanie d'Escalade
END:VEVENT
END:VCALENDAR