BEGIN:VCALENDAR
VERSION:2.0
PRODID:-//CIME - Carbonne Impulsion Montagne Escalade - ECPv6.15.20//NONSGML v1.0//EN
CALSCALE:GREGORIAN
METHOD:PUBLISH
X-ORIGINAL-URL:https://cime-carbonne.fr
X-WR-CALDESC:Évènements pour CIME - Carbonne Impulsion Montagne Escalade
REFRESH-INTERVAL;VALUE=DURATION:PT1H
X-Robots-Tag:noindex
X-PUBLISHED-TTL:PT1H
BEGIN:VTIMEZONE
TZID:Europe/Paris
BEGIN:DAYLIGHT
TZOFFSETFROM:+0100
TZOFFSETTO:+0200
TZNAME:CEST
DTSTART:20230326T010000
END:DAYLIGHT
BEGIN:STANDARD
TZOFFSETFROM:+0200
TZOFFSETTO:+0100
TZNAME:CET
DTSTART:20231029T010000
END:STANDARD
BEGIN:DAYLIGHT
TZOFFSETFROM:+0100
TZOFFSETTO:+0200
TZNAME:CEST
DTSTART:20240331T010000
END:DAYLIGHT
BEGIN:STANDARD
TZOFFSETFROM:+0200
TZOFFSETTO:+0100
TZNAME:CET
DTSTART:20241027T010000
END:STANDARD
BEGIN:DAYLIGHT
TZOFFSETFROM:+0100
TZOFFSETTO:+0200
TZNAME:CEST
DTSTART:20250330T010000
END:DAYLIGHT
BEGIN:STANDARD
TZOFFSETFROM:+0200
TZOFFSETTO:+0100
TZNAME:CET
DTSTART:20251026T010000
END:STANDARD
END:VTIMEZONE
BEGIN:VEVENT
DTSTART;TZID=Europe/Paris:20240106T080000
DTEND;TZID=Europe/Paris:20240106T170000
DTSTAMP:20260425T122702
CREATED:20231214T100753Z
LAST-MODIFIED:20231215T203254Z
UID:7386-1704528000-1704560400@cime-carbonne.fr
SUMMARY:Initiation Ski-Alpinisme (de randonnée)
DESCRIPTION:Après les fêtes\, il faut faire fondre les graisses accumulées ! \n\n\n\nCritère : Virer avec aisance en virages parallèles sur toutes pistes rouges (station)Lieu : à définirMatériel : si nécessaire prévoir de louer : skis\, peaux\, chaussures\, bâtons…. Le club peux fournir (selon dispo) un pack sécurité : DVA\,Pelle\,Sonde
URL:https://cime-carbonne.fr/evenement/initiation-ski-alpinisme-de-randonnee-2/
CATEGORIES:Sorties Ski Alpinisme
ATTACH;FMTTYPE=image/jpeg:https://cime-carbonne.fr/wp-content/uploads/2023/02/20230129_110049-scaled-1.jpg
ORGANIZER;CN="Jean-Rick":MAILTO:montagne@cime-carbonne.fr
END:VEVENT
BEGIN:VEVENT
DTSTART;TZID=Europe/Paris:20240106T080000
DTEND;TZID=Europe/Paris:20240107T170000
DTSTAMP:20260425T122702
CREATED:20231127T094006Z
LAST-MODIFIED:20231127T094008Z
UID:7345-1704528000-1704646800@cime-carbonne.fr
SUMMARY:Championnat régional de bloc creps de toulouse
DESCRIPTION:
URL:https://cime-carbonne.fr/evenement/championnat-regional-de-bloc-creps-de-toulouse/
END:VEVENT
END:VCALENDAR