BEGIN:VCALENDAR
VERSION:2.0
PRODID:-//CIME - Carbonne Impulsion Montagne Escalade - ECPv6.15.20//NONSGML v1.0//EN
CALSCALE:GREGORIAN
METHOD:PUBLISH
X-WR-CALNAME:CIME - Carbonne Impulsion Montagne Escalade
X-ORIGINAL-URL:https://cime-carbonne.fr
X-WR-CALDESC:Évènements pour CIME - Carbonne Impulsion Montagne Escalade
REFRESH-INTERVAL;VALUE=DURATION:PT1H
X-Robots-Tag:noindex
X-PUBLISHED-TTL:PT1H
BEGIN:VTIMEZONE
TZID:Europe/Paris
BEGIN:DAYLIGHT
TZOFFSETFROM:+0100
TZOFFSETTO:+0200
TZNAME:CEST
DTSTART:20220327T010000
END:DAYLIGHT
BEGIN:STANDARD
TZOFFSETFROM:+0200
TZOFFSETTO:+0100
TZNAME:CET
DTSTART:20221030T010000
END:STANDARD
BEGIN:DAYLIGHT
TZOFFSETFROM:+0100
TZOFFSETTO:+0200
TZNAME:CEST
DTSTART:20230326T010000
END:DAYLIGHT
BEGIN:STANDARD
TZOFFSETFROM:+0200
TZOFFSETTO:+0100
TZNAME:CET
DTSTART:20231029T010000
END:STANDARD
BEGIN:DAYLIGHT
TZOFFSETFROM:+0100
TZOFFSETTO:+0200
TZNAME:CEST
DTSTART:20240331T010000
END:DAYLIGHT
BEGIN:STANDARD
TZOFFSETFROM:+0200
TZOFFSETTO:+0100
TZNAME:CET
DTSTART:20241027T010000
END:STANDARD
END:VTIMEZONE
BEGIN:VEVENT
DTSTART;TZID=Europe/Paris:20231001T080000
DTEND;TZID=Europe/Paris:20231001T170000
DTSTAMP:20260425T172049
CREATED:20230919T181504Z
LAST-MODIFIED:20231019T080444Z
UID:7212-1696147200-1696179600@cime-carbonne.fr
SUMMARY:Sortie Falaise
DESCRIPTION:Dimanche 1er octobre 2023 \n\n\n\nSamedi 4 novembre 2023 \n\n\n\nInfos : \n\n\n\nPublic concerné : adultes et ados \n\n\n\nNiveau : débutants et initiés \n\n\n\nNombre : groupe de 12-15 personnes \n\n\n\nLieu : à définir en fonction de la météo \n\n\n\nLieu du rendez-vous : parking du gymnase de Carbonne (horaire à définir au moment de l’inscription) \n\n\n\nA prévoir : \n\n\n\nEau \n\n\n\nPique-nique \n\n\n\nHabits adéquats avec la météo \n\n\n\nUn peu de monnaie pour dédommager le conducteur (essence\, frais voiture\, péage…) \n\n\n\nInscription obligatoire : appel\, message vocal ou sms : \n\n\n\nMélanie : 06 74 70 92 71 \n\n\n\nCarole : 06 28 25 15 26 \n\n\n\nConfirmation par les encadrants : veille ou avant-veille \n\n\n\nToutes les personnes autonomes souhaitant participer en aidant à l’encadrement de la journée sont les bienvenues !!! \n\n\n\nAu plaisir de grimper ensemble ! Carole\, Pauline et Mélanie
URL:https://cime-carbonne.fr/evenement/sortie-falaise/
CATEGORIES:Sortie Falaise
END:VEVENT
END:VCALENDAR