BEGIN:VCALENDAR
VERSION:2.0
PRODID:-//CIME - Carbonne Impulsion Montagne Escalade - ECPv6.15.20//NONSGML v1.0//EN
CALSCALE:GREGORIAN
METHOD:PUBLISH
X-ORIGINAL-URL:https://cime-carbonne.fr
X-WR-CALDESC:Évènements pour CIME - Carbonne Impulsion Montagne Escalade
REFRESH-INTERVAL;VALUE=DURATION:PT1H
X-Robots-Tag:noindex
X-PUBLISHED-TTL:PT1H
BEGIN:VTIMEZONE
TZID:Europe/Paris
BEGIN:DAYLIGHT
TZOFFSETFROM:+0100
TZOFFSETTO:+0200
TZNAME:CEST
DTSTART:20220327T010000
END:DAYLIGHT
BEGIN:STANDARD
TZOFFSETFROM:+0200
TZOFFSETTO:+0100
TZNAME:CET
DTSTART:20221030T010000
END:STANDARD
BEGIN:DAYLIGHT
TZOFFSETFROM:+0100
TZOFFSETTO:+0200
TZNAME:CEST
DTSTART:20230326T010000
END:DAYLIGHT
BEGIN:STANDARD
TZOFFSETFROM:+0200
TZOFFSETTO:+0100
TZNAME:CET
DTSTART:20231029T010000
END:STANDARD
BEGIN:DAYLIGHT
TZOFFSETFROM:+0100
TZOFFSETTO:+0200
TZNAME:CEST
DTSTART:20240331T010000
END:DAYLIGHT
BEGIN:STANDARD
TZOFFSETFROM:+0200
TZOFFSETTO:+0100
TZNAME:CET
DTSTART:20241027T010000
END:STANDARD
END:VTIMEZONE
BEGIN:VEVENT
DTSTART;TZID=Europe/Paris:20230305T000000
DTEND;TZID=Europe/Paris:20230305T235959
DTSTAMP:20260426T030421
CREATED:20230219T152845Z
LAST-MODIFIED:20230219T152845Z
UID:6275-1677974400-1678060799@cime-carbonne.fr
SUMMARY:Coupe Occitanie d’Escalade – Difficulté – Etape de Tournefeuille
DESCRIPTION:pour les U10 U16\, U18\, U20\, séniors et vétérans \nPaiement de l’inscription obligatoirement avant le 27 février sur le site du TAG. \nContest de difficulté: 5 voies flash \nU10 : 5 voies en moulinette\nU18\, U16\, U20\, séniors et vétérans : 5 voies en tête \n8h00 : Accueil\n8h45 : Briefing \n9h00 : Début de la compétition\n12h30 : Fin de la compétition \n13h00 : Podium \nU16\, Séniors et Vétérans \n13h00 : accueil \n14h00 : début de la compétition\n17h00 : fin de la compétition \nNom : Open régional de difficulté jeunes et vétéran d’Occitanie\nDiscipline : Escalade\nDate : 05/03/2023 – 05/03/2023\nHeure d’accueil : 8H00\nHeure de fin : 17H30\nCommune : TOURNEFEUILLE\nLieu : Gymnase des Quéfets Boulevard Alain Savary 31170 Tournefeuille
URL:https://cime-carbonne.fr/evenement/coupe-occitanie-descalade-difficulte-etape-de-tournefeuille/
CATEGORIES:Compétitions
ATTACH;FMTTYPE=image/png:https://cime-carbonne.fr/wp-content/uploads/2022/11/logo-ffme-1920x1920-1-e1668977124818.png
END:VEVENT
END:VCALENDAR