BEGIN:VCALENDAR
VERSION:2.0
PRODID:-//CIME - Carbonne Impulsion Montagne Escalade - ECPv6.15.20//NONSGML v1.0//EN
CALSCALE:GREGORIAN
METHOD:PUBLISH
X-WR-CALNAME:CIME - Carbonne Impulsion Montagne Escalade
X-ORIGINAL-URL:https://cime-carbonne.fr
X-WR-CALDESC:Évènements pour CIME - Carbonne Impulsion Montagne Escalade
REFRESH-INTERVAL;VALUE=DURATION:PT1H
X-Robots-Tag:noindex
X-PUBLISHED-TTL:PT1H
BEGIN:VTIMEZONE
TZID:Europe/Paris
BEGIN:DAYLIGHT
TZOFFSETFROM:+0100
TZOFFSETTO:+0200
TZNAME:CEST
DTSTART:20220327T010000
END:DAYLIGHT
BEGIN:STANDARD
TZOFFSETFROM:+0200
TZOFFSETTO:+0100
TZNAME:CET
DTSTART:20221030T010000
END:STANDARD
BEGIN:DAYLIGHT
TZOFFSETFROM:+0100
TZOFFSETTO:+0200
TZNAME:CEST
DTSTART:20230326T010000
END:DAYLIGHT
BEGIN:STANDARD
TZOFFSETFROM:+0200
TZOFFSETTO:+0100
TZNAME:CET
DTSTART:20231029T010000
END:STANDARD
BEGIN:DAYLIGHT
TZOFFSETFROM:+0100
TZOFFSETTO:+0200
TZNAME:CEST
DTSTART:20240331T010000
END:DAYLIGHT
BEGIN:STANDARD
TZOFFSETFROM:+0200
TZOFFSETTO:+0100
TZNAME:CET
DTSTART:20241027T010000
END:STANDARD
END:VTIMEZONE
BEGIN:VEVENT
DTSTART;TZID=Europe/Paris:20230304T000000
DTEND;TZID=Europe/Paris:20230304T235959
DTSTAMP:20260426T031159
CREATED:20221120T205722Z
LAST-MODIFIED:20221120T205722Z
UID:4733-1677888000-1677974399@cime-carbonne.fr
SUMMARY:Championnat Régional U12-U14
DESCRIPTION:Format combiné (3 épreuves à effectuer): bloc\, diff et vitesse. \nLes inscriptions doivent être réalisées uniquement par le club. Merci de m’indiquer par retour de mail qui souhaite s’inscrire avant le 26/02 \nNom : Championnat régional U12/U14 d’Occitanie 2023\nDiscipline : Escalade\nDate : 04/03/2023 – 04/03/2023\nHeure d’accueil : 8H00\nHeure de fin : 18H00\nCommune : TOURNEFEUILLE\nLieu : Gymnase des Quéfets Avenue Alain Savary 31170 Tournefeuille \nAccueil 8h00 – 9h00\n9h30 début de la compétition\nLe passage sur les 3 disciplines (difficulté\, bloc et vitesse) se fera par catégorie en fonction des différentes tranches horaires.\n• Epreuve de Difficulté (contest de 3 voies / cat.)\n• Epreuve de Bloc contest 5 blocs à essais limités /catégorie\n• Epreuve de Vitesse (4 runs)\n17h30 podium
URL:https://cime-carbonne.fr/evenement/championnat-regional-u12-u14/
CATEGORIES:Compétitions
ATTACH;FMTTYPE=image/png:https://cime-carbonne.fr/wp-content/uploads/2022/11/logo-ffme-1920x1920-1-e1668977124818.png
END:VEVENT
END:VCALENDAR