BEGIN:VCALENDAR
VERSION:2.0
PRODID:-//CIME - Carbonne Impulsion Montagne Escalade - ECPv6.15.20//NONSGML v1.0//EN
CALSCALE:GREGORIAN
METHOD:PUBLISH
X-ORIGINAL-URL:https://cime-carbonne.fr
X-WR-CALDESC:Évènements pour CIME - Carbonne Impulsion Montagne Escalade
REFRESH-INTERVAL;VALUE=DURATION:PT1H
X-Robots-Tag:noindex
X-PUBLISHED-TTL:PT1H
BEGIN:VTIMEZONE
TZID:Europe/Paris
BEGIN:DAYLIGHT
TZOFFSETFROM:+0100
TZOFFSETTO:+0200
TZNAME:CEST
DTSTART:20220327T010000
END:DAYLIGHT
BEGIN:STANDARD
TZOFFSETFROM:+0200
TZOFFSETTO:+0100
TZNAME:CET
DTSTART:20221030T010000
END:STANDARD
BEGIN:DAYLIGHT
TZOFFSETFROM:+0100
TZOFFSETTO:+0200
TZNAME:CEST
DTSTART:20230326T010000
END:DAYLIGHT
BEGIN:STANDARD
TZOFFSETFROM:+0200
TZOFFSETTO:+0100
TZNAME:CET
DTSTART:20231029T010000
END:STANDARD
BEGIN:DAYLIGHT
TZOFFSETFROM:+0100
TZOFFSETTO:+0200
TZNAME:CEST
DTSTART:20240331T010000
END:DAYLIGHT
BEGIN:STANDARD
TZOFFSETFROM:+0200
TZOFFSETTO:+0100
TZNAME:CET
DTSTART:20241027T010000
END:STANDARD
END:VTIMEZONE
BEGIN:VEVENT
DTSTART;TZID=Europe/Paris:20230212T000000
DTEND;TZID=Europe/Paris:20230212T235959
DTSTAMP:20260426T044145
CREATED:20221120T205308Z
LAST-MODIFIED:20221120T205308Z
UID:4725-1676160000-1676246399@cime-carbonne.fr
SUMMARY:GET Pibrac
DESCRIPTION:Infos à venir
URL:https://cime-carbonne.fr/evenement/get-pibrac/
CATEGORIES:Compétitions,GET
ATTACH;FMTTYPE=image/png:https://cime-carbonne.fr/wp-content/uploads/2022/11/GET_2022-2023.png
END:VEVENT
BEGIN:VEVENT
DTSTART;TZID=Europe/Paris:20230212T000000
DTEND;TZID=Europe/Paris:20230212T235959
DTSTAMP:20260426T044145
CREATED:20230115T142402Z
LAST-MODIFIED:20230115T142402Z
UID:5616-1676160000-1676246399@cime-carbonne.fr
SUMMARY:Sorties falaises adultes / ados
DESCRIPTION:Bonjour à toutes et à tous\, \nNous proposons des sorties falaises pour adultes et ados les :\n• Samedi 21 janvier 2023\n• Dimanche 12 février 2023\nInfos :\n• Public concerné : adultes et ados\n• Niveau : débutants et initiés\n• Nombre : groupe de 12-15 personnes\n• Lieu : à définir en fonction de la météo\n• Lieu du rendez-vous : parking du gymnase de Carbonne (horaire à définir au moment de l’inscription)\nA prévoir :\n• Eau\n• Pique-nique\n• Habits adéquats avec la météo\n• Un peu de monnaie pour dédommager le conducteur (essence\, frais voiture\, péage…)\n• Confirmation par les encadrants : veille ou avant-veille\nInscription obligatoire : appel\, message vocal ou sms :\n• Mélanie : 06 74 70 92 71\n• Carole : 06 28 25 15 26\nToutes les personnes autonomes souhaitant participer en aidant à l’encadrement de la journée sont les bienvenues !!! \nAu plaisir de grimper ensemble ! \nCarole et Mélanie
URL:https://cime-carbonne.fr/evenement/sorties-falaises-adultes-ados-2/
CATEGORIES:Sortie Falaise,Sorties
END:VEVENT
END:VCALENDAR